BEGIN:VCALENDAR
VERSION:2.0
PRODID:-//Create With Cheryl - Cheryl Hamilton - ECPv6.15.17.1//NONSGML v1.0//EN
CALSCALE:GREGORIAN
METHOD:PUBLISH
X-WR-CALNAME:Create With Cheryl - Cheryl Hamilton
X-ORIGINAL-URL:https://createwithcheryl.me
X-WR-CALDESC:Events for Create With Cheryl - Cheryl Hamilton
REFRESH-INTERVAL;VALUE=DURATION:PT1H
X-Robots-Tag:noindex
X-PUBLISHED-TTL:PT1H
BEGIN:VTIMEZONE
TZID:Pacific/Honolulu
BEGIN:STANDARD
TZOFFSETFROM:-1000
TZOFFSETTO:-1000
TZNAME:HST
DTSTART:20200101T000000
END:STANDARD
END:VTIMEZONE
BEGIN:VEVENT
DTSTART;TZID=Pacific/Honolulu:20210405T100000
DTEND;TZID=Pacific/Honolulu:20210405T120000
DTSTAMP:20260422T060625
CREATED:20210315T010632Z
LAST-MODIFIED:20210315T010632Z
UID:81002-1617616800-1617624000@createwithcheryl.me
SUMMARY:Card in a Box
DESCRIPTION:Join us in class as we make this beautiful CARD IN A BOX!  Folds flat for mailing. \n$15 or FREE with your $30 order. \n*Note: Papers may be a little different than shown in the photo\, but they’ll all be from the same Designer Series Paper: Hydrangea Haven.
URL:https://createwithcheryl.me/event/card-in-a-box-3/
LOCATION:1194 W. Kuiaha Road\, Haiku\, HI  96708\, 1194 W. Kuiaha Road\, Haiku\, HI\, 96708\, United States
CATEGORIES:Card in a Box!
ATTACH;FMTTYPE=image/jpeg:https://createwithcheryl.me/wp-content/uploads/2021/03/CH6VSnGIRUCOxiwyYdLl5A_thumb_3867.jpg
ORGANIZER;CN="Cheryl Hamilton":MAILTO:chamilton.maui@gmail.com
END:VEVENT
BEGIN:VEVENT
DTSTART;TZID=Pacific/Honolulu:20210405T140000
DTEND;TZID=Pacific/Honolulu:20210405T160000
DTSTAMP:20260422T060625
CREATED:20210315T010748Z
LAST-MODIFIED:20210315T010748Z
UID:81004-1617631200-1617638400@createwithcheryl.me
SUMMARY:Card in a Box
DESCRIPTION:Join us in class as we make this beautiful CARD IN A BOX!  Folds flat for mailing. \n$15 or FREE with your $30 order. \n*Note: Papers may be a little different than shown in the photo\, but they’ll all be from the same Designer Series Paper: Hydrangea Haven.
URL:https://createwithcheryl.me/event/card-in-a-box-4/
LOCATION:1194 W. Kuiaha Road\, Haiku\, HI  96708\, 1194 W. Kuiaha Road\, Haiku\, HI\, 96708\, United States
CATEGORIES:Card in a Box!
ATTACH;FMTTYPE=image/jpeg:https://createwithcheryl.me/wp-content/uploads/2021/03/CH6VSnGIRUCOxiwyYdLl5A_thumb_3867.jpg
ORGANIZER;CN="Cheryl Hamilton":MAILTO:chamilton.maui@gmail.com
END:VEVENT
END:VCALENDAR