BEGIN:VCALENDAR
VERSION:2.0
PRODID:-//Create With Cheryl - Cheryl Hamilton - ECPv6.15.17.1//NONSGML v1.0//EN
CALSCALE:GREGORIAN
METHOD:PUBLISH
X-WR-CALNAME:Create With Cheryl - Cheryl Hamilton
X-ORIGINAL-URL:https://createwithcheryl.me
X-WR-CALDESC:Events for Create With Cheryl - Cheryl Hamilton
REFRESH-INTERVAL;VALUE=DURATION:PT1H
X-Robots-Tag:noindex
X-PUBLISHED-TTL:PT1H
BEGIN:VTIMEZONE
TZID:Pacific/Honolulu
BEGIN:STANDARD
TZOFFSETFROM:-1000
TZOFFSETTO:-1000
TZNAME:HST
DTSTART:20180101T000000
END:STANDARD
END:VTIMEZONE
BEGIN:VEVENT
DTSTART;TZID=Pacific/Honolulu:20190415T130000
DTEND;TZID=Pacific/Honolulu:20190415T150000
DTSTAMP:20260423T220948
CREATED:20190219T225439Z
LAST-MODIFIED:20190408T030759Z
UID:77492-1555333200-1555340400@createwithcheryl.me
SUMMARY:Kaunoa Senior Center Class
DESCRIPTION:Join us at this fun class where we’ll be making  a Card in a Box! \nThis one is Spring Themed with butterflies & daisies & gingham paper. \nIt also folds flat so that you can mail it! \n\nCall Kaunoa at (808) 270-7308 to sign up.
URL:https://createwithcheryl.me/event/kaunoa-senior-center-class-2/
LOCATION:Kaunoa Senior Center\, 401 Alakapa Place\, Paia\, HI\, 96779\, United States
CATEGORIES:Card in a Box!,Fun Folds!,Kaunoa
ATTACH;FMTTYPE=image/jpeg:https://createwithcheryl.me/wp-content/uploads/2019/02/savingPNG.jpeg
ORGANIZER;CN="Cheryl Hamilton":MAILTO:chamilton.maui@gmail.com
END:VEVENT
END:VCALENDAR