BEGIN:VCALENDAR
VERSION:2.0
PRODID:-//Create With Cheryl - Cheryl Hamilton - ECPv6.15.17.1//NONSGML v1.0//EN
CALSCALE:GREGORIAN
METHOD:PUBLISH
X-WR-CALNAME:Create With Cheryl - Cheryl Hamilton
X-ORIGINAL-URL:https://createwithcheryl.me
X-WR-CALDESC:Events for Create With Cheryl - Cheryl Hamilton
REFRESH-INTERVAL;VALUE=DURATION:PT1H
X-Robots-Tag:noindex
X-PUBLISHED-TTL:PT1H
BEGIN:VTIMEZONE
TZID:Pacific/Honolulu
BEGIN:STANDARD
TZOFFSETFROM:-1000
TZOFFSETTO:-1000
TZNAME:HST
DTSTART:20200101T000000
END:STANDARD
END:VTIMEZONE
BEGIN:VEVENT
DTSTART;TZID=Pacific/Honolulu:20210508T100000
DTEND;TZID=Pacific/Honolulu:20210508T120000
DTSTAMP:20260425T152640
CREATED:20210504T052137Z
LAST-MODIFIED:20210504T052137Z
UID:81188-1620468000-1620475200@createwithcheryl.me
SUMMARY:Card Layouts
DESCRIPTION:Do you have trouble coming up with your own card ideas?  Not sure what adhesives to use or what sizes to cut your paper?  Want to learn new card-making tips? This class series is perfect for YOU!  \nEach class will start with a Card Layout that we’ll use to make 3 totally different cards.  You’ll be given the layout with specific measurements to assist you when you want to create your own card at home. \n \nClass is $15 or FREE with your $30 order.  You can also request a KIT TO GO!  $15 plus $3 for shipping. \nPlease bring your own stamping supplies and wear a mask! Space is limited so please RSVP soon! Mahalo! \n  \nPinterest Board\nYou’re welcome to participate in my Pinterest Board... just message me to be added\, and then feel free to add your own creations to the board!  It’s fun to see each other’s ideas & comments!
URL:https://createwithcheryl.me/event/card-layouts-59/
LOCATION:Tasty Crust Restaurant\, 1770 Mill St\, Wailuku\,\, Wailuku\, HI\, 96793\, United States
CATEGORIES:Card Layouts
ATTACH;FMTTYPE=image/jpeg:https://createwithcheryl.me/wp-content/uploads/2021/05/xq2K09U5TYqDLBBA85CwgQ_thumb_3c70.jpg
ORGANIZER;CN="Cheryl Hamilton":MAILTO:chamilton.maui@gmail.com
END:VEVENT
BEGIN:VEVENT
DTSTART;TZID=Pacific/Honolulu:20210510T100000
DTEND;TZID=Pacific/Honolulu:20210510T120000
DTSTAMP:20260425T152640
CREATED:20210504T051802Z
LAST-MODIFIED:20210504T051802Z
UID:81182-1620640800-1620648000@createwithcheryl.me
SUMMARY:Card Layouts
DESCRIPTION:Do you have trouble coming up with your own card ideas?  Not sure what adhesives to use or what sizes to cut your paper?  Want to learn new card-making tips? This class series is perfect for YOU!  \nEach class will start with a Card Layout that we’ll use to make 3 totally different cards.  You’ll be given the layout with specific measurements to assist you when you want to create your own card at home. \n \nClass is $15 or FREE with your $30 order.  You can also request a KIT TO GO!  $15 plus $3 for shipping. \nPlease bring your own stamping supplies and wear a mask! Space is limited so please RSVP soon! Mahalo! \n  \nPinterest Board\nYou’re welcome to participate in my Pinterest Board... just message me to be added\, and then feel free to add your own creations to the board!  It’s fun to see each other’s ideas & comments!
URL:https://createwithcheryl.me/event/card-layouts-56/
LOCATION:1194 W. Kuiaha Road\, Haiku\, HI  96708\, 1194 W. Kuiaha Road\, Haiku\, HI\, 96708\, United States
CATEGORIES:Card Layouts
ATTACH;FMTTYPE=image/jpeg:https://createwithcheryl.me/wp-content/uploads/2021/05/xq2K09U5TYqDLBBA85CwgQ_thumb_3c70.jpg
ORGANIZER;CN="Cheryl Hamilton":MAILTO:chamilton.maui@gmail.com
END:VEVENT
BEGIN:VEVENT
DTSTART;TZID=Pacific/Honolulu:20210510T140000
DTEND;TZID=Pacific/Honolulu:20210510T160000
DTSTAMP:20260425T152640
CREATED:20210504T051910Z
LAST-MODIFIED:20210504T051910Z
UID:81184-1620655200-1620662400@createwithcheryl.me
SUMMARY:Card Layouts
DESCRIPTION:Do you have trouble coming up with your own card ideas?  Not sure what adhesives to use or what sizes to cut your paper?  Want to learn new card-making tips? This class series is perfect for YOU!  \nEach class will start with a Card Layout that we’ll use to make 3 totally different cards.  You’ll be given the layout with specific measurements to assist you when you want to create your own card at home. \n \nClass is $15 or FREE with your $30 order.  You can also request a KIT TO GO!  $15 plus $3 for shipping. \nPlease bring your own stamping supplies and wear a mask! Space is limited so please RSVP soon! Mahalo! \n  \nPinterest Board\nYou’re welcome to participate in my Pinterest Board... just message me to be added\, and then feel free to add your own creations to the board!  It’s fun to see each other’s ideas & comments!
URL:https://createwithcheryl.me/event/card-layouts-57/
LOCATION:1194 W. Kuiaha Road\, Haiku\, HI  96708\, 1194 W. Kuiaha Road\, Haiku\, HI\, 96708\, United States
CATEGORIES:Card Layouts
ATTACH;FMTTYPE=image/jpeg:https://createwithcheryl.me/wp-content/uploads/2021/05/xq2K09U5TYqDLBBA85CwgQ_thumb_3c70.jpg
ORGANIZER;CN="Cheryl Hamilton":MAILTO:chamilton.maui@gmail.com
END:VEVENT
BEGIN:VEVENT
DTSTART;TZID=Pacific/Honolulu:20210511T100000
DTEND;TZID=Pacific/Honolulu:20210511T120000
DTSTAMP:20260425T152640
CREATED:20210504T052016Z
LAST-MODIFIED:20210504T052016Z
UID:81186-1620727200-1620734400@createwithcheryl.me
SUMMARY:Card Layouts
DESCRIPTION:Do you have trouble coming up with your own card ideas?  Not sure what adhesives to use or what sizes to cut your paper?  Want to learn new card-making tips? This class series is perfect for YOU!  \nEach class will start with a Card Layout that we’ll use to make 3 totally different cards.  You’ll be given the layout with specific measurements to assist you when you want to create your own card at home. \n \nClass is $15 or FREE with your $30 order.  You can also request a KIT TO GO!  $15 plus $3 for shipping. \nPlease bring your own stamping supplies and wear a mask! Space is limited so please RSVP soon! Mahalo! \n  \nPinterest Board\nYou’re welcome to participate in my Pinterest Board... just message me to be added\, and then feel free to add your own creations to the board!  It’s fun to see each other’s ideas & comments!
URL:https://createwithcheryl.me/event/card-layouts-58/
LOCATION:1194 W. Kuiaha Road\, Haiku\, HI  96708\, 1194 W. Kuiaha Road\, Haiku\, HI\, 96708\, United States
CATEGORIES:Card Layouts
ATTACH;FMTTYPE=image/jpeg:https://createwithcheryl.me/wp-content/uploads/2021/05/xq2K09U5TYqDLBBA85CwgQ_thumb_3c70.jpg
ORGANIZER;CN="Cheryl Hamilton":MAILTO:chamilton.maui@gmail.com
END:VEVENT
END:VCALENDAR