BEGIN:VCALENDAR
VERSION:2.0
PRODID:-//Create With Cheryl - Cheryl Hamilton - ECPv6.15.17.1//NONSGML v1.0//EN
CALSCALE:GREGORIAN
METHOD:PUBLISH
X-WR-CALNAME:Create With Cheryl - Cheryl Hamilton
X-ORIGINAL-URL:https://createwithcheryl.me
X-WR-CALDESC:Events for Create With Cheryl - Cheryl Hamilton
REFRESH-INTERVAL;VALUE=DURATION:PT1H
X-Robots-Tag:noindex
X-PUBLISHED-TTL:PT1H
BEGIN:VTIMEZONE
TZID:Pacific/Honolulu
BEGIN:STANDARD
TZOFFSETFROM:-1000
TZOFFSETTO:-1000
TZNAME:HST
DTSTART:20180101T000000
END:STANDARD
END:VTIMEZONE
BEGIN:VEVENT
DTSTART;TZID=Pacific/Honolulu:20190427T100000
DTEND;TZID=Pacific/Honolulu:20190427T120000
DTSTAMP:20260423T232126
CREATED:20190403T022624Z
LAST-MODIFIED:20190419T203730Z
UID:77636-1556359200-1556366400@createwithcheryl.me
SUMMARY:Creative Folds
DESCRIPTION:Join us in this fun class where we’ll make a little 3-D item & some cards. \nCost of the class is $15 or FREE with a $25 order.
URL:https://createwithcheryl.me/event/creative-folds/
LOCATION:Cheryl’s Stamp Room\, 1194 W. Kuiaha Road\, Haiku\, HI\, 96708\, United States
CATEGORIES:Creative Folds!
ATTACH;FMTTYPE=image/jpeg:https://createwithcheryl.me/wp-content/uploads/2019/04/Amazing1.jpg
ORGANIZER;CN="Cheryl Hamilton":MAILTO:chamilton.maui@gmail.com
END:VEVENT
BEGIN:VEVENT
DTSTART;TZID=Pacific/Honolulu:20190429T100000
DTEND;TZID=Pacific/Honolulu:20190429T120000
DTSTAMP:20260423T232126
CREATED:20190403T022826Z
LAST-MODIFIED:20190419T203830Z
UID:77638-1556532000-1556539200@createwithcheryl.me
SUMMARY:Creative Folds
DESCRIPTION:Join us in this fun class where we’ll make a little 3-D item & some cards. \nCost of the class is $15 or FREE with a $25 order.
URL:https://createwithcheryl.me/event/creative-folds-2/
LOCATION:Cheryl’s Stamp Room\, 1194 W. Kuiaha Road\, Haiku\, HI\, 96708\, United States
CATEGORIES:Creative Folds!
ATTACH;FMTTYPE=image/jpeg:https://createwithcheryl.me/wp-content/uploads/2019/04/Amazing1.jpg
ORGANIZER;CN="Cheryl Hamilton":MAILTO:chamilton.maui@gmail.com
END:VEVENT
END:VCALENDAR