BEGIN:VCALENDAR
VERSION:2.0
PRODID:-//Create With Cheryl - Cheryl Hamilton - ECPv6.15.17.1//NONSGML v1.0//EN
CALSCALE:GREGORIAN
METHOD:PUBLISH
X-WR-CALNAME:Create With Cheryl - Cheryl Hamilton
X-ORIGINAL-URL:https://createwithcheryl.me
X-WR-CALDESC:Events for Create With Cheryl - Cheryl Hamilton
REFRESH-INTERVAL;VALUE=DURATION:PT1H
X-Robots-Tag:noindex
X-PUBLISHED-TTL:PT1H
BEGIN:VTIMEZONE
TZID:Pacific/Honolulu
BEGIN:STANDARD
TZOFFSETFROM:-1000
TZOFFSETTO:-1000
TZNAME:HST
DTSTART:20180101T000000
END:STANDARD
END:VTIMEZONE
BEGIN:VEVENT
DTSTART;TZID=Pacific/Honolulu:20190527T100000
DTEND;TZID=Pacific/Honolulu:20190527T120000
DTSTAMP:20260423T195905
CREATED:20190403T023138Z
LAST-MODIFIED:20190403T023138Z
UID:77642-1558951200-1558958400@createwithcheryl.me
SUMMARY:Creative Folds
DESCRIPTION:Join us in this fun class where we’ll make this beautiful ??????? \nCost of the class is $15 or FREE with a $25 order.
URL:https://createwithcheryl.me/event/creative-folds-6/
LOCATION:Cheryl’s Stamp Room\, 1194 W. Kuiaha Road\, Haiku\, HI\, 96708\, United States
CATEGORIES:Creative Folds!
ORGANIZER;CN="Cheryl Hamilton":MAILTO:chamilton.maui@gmail.com
END:VEVENT
END:VCALENDAR