BEGIN:VCALENDAR
VERSION:2.0
PRODID:-//Create With Cheryl - Cheryl Hamilton - ECPv6.15.17.1//NONSGML v1.0//EN
CALSCALE:GREGORIAN
METHOD:PUBLISH
X-WR-CALNAME:Create With Cheryl - Cheryl Hamilton
X-ORIGINAL-URL:https://createwithcheryl.me
X-WR-CALDESC:Events for Create With Cheryl - Cheryl Hamilton
REFRESH-INTERVAL;VALUE=DURATION:PT1H
X-Robots-Tag:noindex
X-PUBLISHED-TTL:PT1H
BEGIN:VTIMEZONE
TZID:Pacific/Honolulu
BEGIN:STANDARD
TZOFFSETFROM:-1000
TZOFFSETTO:-1000
TZNAME:HST
DTSTART:20190101T000000
END:STANDARD
END:VTIMEZONE
BEGIN:VEVENT
DTSTART;TZID=Pacific/Honolulu:20200629T100000
DTEND;TZID=Pacific/Honolulu:20200629T120000
DTSTAMP:20260422T225917
CREATED:20200625T210158Z
LAST-MODIFIED:20200625T210158Z
UID:79522-1593424800-1593432000@createwithcheryl.me
SUMMARY:Creative Folds Class
DESCRIPTION:Ready to dive into classes?!!  We’ll wash our hands\, spread out\, wear our masks if we leave our tables\, and HAVE A GREAT TIME STAMPING TOGETHER!! \nWe’ll make 3 different projects that you’ll love! \n\n \nThis event is $15 or FREE with your $30 order placed that day.
URL:https://createwithcheryl.me/event/creative-folds-class/
LOCATION:1194 W. Kuiaha Road\, Haiku\, HI  96708\, 1194 W. Kuiaha Road\, Haiku\, HI\, 96708\, United States
CATEGORIES:Creative Folds!
ATTACH;FMTTYPE=image/jpeg:https://createwithcheryl.me/wp-content/uploads/2020/06/lvJ8yMapSBqxG49CPusvnQ.jpg
ORGANIZER;CN="Cheryl Hamilton":MAILTO:chamilton.maui@gmail.com
END:VEVENT
BEGIN:VEVENT
DTSTART;TZID=Pacific/Honolulu:20200629T140000
DTEND;TZID=Pacific/Honolulu:20200629T160000
DTSTAMP:20260422T225917
CREATED:20200625T210419Z
LAST-MODIFIED:20200625T210419Z
UID:79524-1593439200-1593446400@createwithcheryl.me
SUMMARY:Creative Folds Class
DESCRIPTION:Ready to dive into classes?!!  We’ll wash our hands\, spread out\, wear our masks if we leave our tables\, and HAVE A GREAT TIME STAMPING TOGETHER!! \nWe’ll make 3 different projects that you’ll love! \n\n \nThis event is $15 or FREE with your $30 order placed that day.
URL:https://createwithcheryl.me/event/creative-folds-class-2/
LOCATION:1194 W. Kuiaha Road\, Haiku\, HI  96708\, 1194 W. Kuiaha Road\, Haiku\, HI\, 96708\, United States
CATEGORIES:Creative Folds!
ATTACH;FMTTYPE=image/jpeg:https://createwithcheryl.me/wp-content/uploads/2020/06/lvJ8yMapSBqxG49CPusvnQ.jpg
ORGANIZER;CN="Cheryl Hamilton":MAILTO:chamilton.maui@gmail.com
END:VEVENT
END:VCALENDAR