BEGIN:VCALENDAR
VERSION:2.0
PRODID:-//Create With Cheryl - Cheryl Hamilton - ECPv6.15.17.1//NONSGML v1.0//EN
CALSCALE:GREGORIAN
METHOD:PUBLISH
X-WR-CALNAME:Create With Cheryl - Cheryl Hamilton
X-ORIGINAL-URL:https://createwithcheryl.me
X-WR-CALDESC:Events for Create With Cheryl - Cheryl Hamilton
REFRESH-INTERVAL;VALUE=DURATION:PT1H
X-Robots-Tag:noindex
X-PUBLISHED-TTL:PT1H
BEGIN:VTIMEZONE
TZID:Pacific/Honolulu
BEGIN:STANDARD
TZOFFSETFROM:-1000
TZOFFSETTO:-1000
TZNAME:HST
DTSTART:20200101T000000
END:STANDARD
END:VTIMEZONE
BEGIN:VEVENT
DTSTART;TZID=Pacific/Honolulu:20210201T100000
DTEND;TZID=Pacific/Honolulu:20210201T120000
DTSTAMP:20260422T030650
CREATED:20210121T064140Z
LAST-MODIFIED:20210121T064140Z
UID:80656-1612173600-1612180800@createwithcheryl.me
SUMMARY:Creative Folds
DESCRIPTION:In this class\, we’ll be making 3 projects: \n\nGate Fold Card\nAnother card (not sure what yet…)\n3D project\n\nClass is $15 or FREE with a $30 order.  Hope to see you there!
URL:https://createwithcheryl.me/event/creative-folds-8/
LOCATION:1194 W. Kuiaha Road\, Haiku\, HI  96708\, 1194 W. Kuiaha Road\, Haiku\, HI\, 96708\, United States
CATEGORIES:Creative Folds!
ATTACH;FMTTYPE=image/jpeg:https://createwithcheryl.me/wp-content/uploads/2021/01/YdDN2xoCRVaRAtVQmswP4Q_thumb_3694.jpg
ORGANIZER;CN="Cheryl Hamilton":MAILTO:chamilton.maui@gmail.com
END:VEVENT
BEGIN:VEVENT
DTSTART;TZID=Pacific/Honolulu:20210201T140000
DTEND;TZID=Pacific/Honolulu:20210201T160000
DTSTAMP:20260422T030650
CREATED:20210121T064255Z
LAST-MODIFIED:20210121T064255Z
UID:80658-1612188000-1612195200@createwithcheryl.me
SUMMARY:Creative Folds
DESCRIPTION:In this class\, we’ll be making 3 projects: \n\nGate Fold Card\nAnother card (not sure what yet…)\n3D project\n\nClass is $15 or FREE with a $30 order.  Hope to see you there!
URL:https://createwithcheryl.me/event/creative-folds-9/
LOCATION:1194 W. Kuiaha Road\, Haiku\, HI  96708\, 1194 W. Kuiaha Road\, Haiku\, HI\, 96708\, United States
CATEGORIES:Creative Folds!
ATTACH;FMTTYPE=image/jpeg:https://createwithcheryl.me/wp-content/uploads/2021/01/YdDN2xoCRVaRAtVQmswP4Q_thumb_3694.jpg
ORGANIZER;CN="Cheryl Hamilton":MAILTO:chamilton.maui@gmail.com
END:VEVENT
END:VCALENDAR