BEGIN:VCALENDAR
VERSION:2.0
PRODID:-//Create With Cheryl - Cheryl Hamilton - ECPv6.15.17.1//NONSGML v1.0//EN
CALSCALE:GREGORIAN
METHOD:PUBLISH
X-WR-CALNAME:Create With Cheryl - Cheryl Hamilton
X-ORIGINAL-URL:https://createwithcheryl.me
X-WR-CALDESC:Events for Create With Cheryl - Cheryl Hamilton
REFRESH-INTERVAL;VALUE=DURATION:PT1H
X-Robots-Tag:noindex
X-PUBLISHED-TTL:PT1H
BEGIN:VTIMEZONE
TZID:Pacific/Honolulu
BEGIN:STANDARD
TZOFFSETFROM:-1000
TZOFFSETTO:-1000
TZNAME:HST
DTSTART:20200101T000000
END:STANDARD
END:VTIMEZONE
BEGIN:VEVENT
DTSTART;TZID=Pacific/Honolulu:20210726T130000
DTEND;TZID=Pacific/Honolulu:20210726T150000
DTSTAMP:20260421T165703
CREATED:20210721T192735Z
LAST-MODIFIED:20210721T192735Z
UID:81515-1627304400-1627311600@createwithcheryl.me
SUMMARY:Creative Folds
DESCRIPTION:Join us in class where we’ll be making 3 fun projects\, including this beautiful Daisy Garden card! \nCost is $15 or FREE with your $30 order.
URL:https://createwithcheryl.me/event/creative-folds-24/
LOCATION:1194 W. Kuiaha Road\, Haiku\, HI  96708\, 1194 W. Kuiaha Road\, Haiku\, HI\, 96708\, United States
CATEGORIES:Creative Folds!,Fun Folds!
ATTACH;FMTTYPE=image/jpeg:https://createwithcheryl.me/wp-content/uploads/2021/07/hP3iddyMTSCbbxREUnrR3Q_thumb_40ef-1.jpg
ORGANIZER;CN="Cheryl Hamilton":MAILTO:chamilton.maui@gmail.com
END:VEVENT
END:VCALENDAR