BEGIN:VCALENDAR
VERSION:2.0
PRODID:-//Create With Cheryl - Cheryl Hamilton - ECPv6.15.17.1//NONSGML v1.0//EN
CALSCALE:GREGORIAN
METHOD:PUBLISH
X-WR-CALNAME:Create With Cheryl - Cheryl Hamilton
X-ORIGINAL-URL:https://createwithcheryl.me
X-WR-CALDESC:Events for Create With Cheryl - Cheryl Hamilton
REFRESH-INTERVAL;VALUE=DURATION:PT1H
X-Robots-Tag:noindex
X-PUBLISHED-TTL:PT1H
BEGIN:VTIMEZONE
TZID:Pacific/Honolulu
BEGIN:STANDARD
TZOFFSETFROM:-1000
TZOFFSETTO:-1000
TZNAME:HST
DTSTART:20230101T000000
END:STANDARD
END:VTIMEZONE
BEGIN:VEVENT
DTSTART;TZID=Pacific/Honolulu:20240606T080000
DTEND;TZID=Pacific/Honolulu:20240606T090000
DTSTAMP:20260421T015333
CREATED:20240531T164954Z
LAST-MODIFIED:20240531T164954Z
UID:86999-1717660800-1717664400@createwithcheryl.me
SUMMARY:Free Online Class!
DESCRIPTION:Join me on my YouTube Channel for this FREE Online Class!\nYou’ll learn how to make this simple fun fold – the Cut & Flip Fold.\nPlace a $40 order in my online store before Tuesday\, June 11\, 2024 at midnight to get this packet sent to you for free!\nUse this link: https://www.stampinup.com?hostcode=RGTBXM7D\n*Order must be over 50.00 and you’ll get the card kit AND the In Color Resin Dots for FREE!\nBasic Supply List\n\n\n\n \n\n\n  \n 
URL:https://createwithcheryl.me/event/free-online-class/
CATEGORIES:Free Online Class!,Fun Folds!
ATTACH;FMTTYPE=image/jpeg:https://createwithcheryl.me/wp-content/uploads/2024/05/Cut-Flip-Fun-Fold-Class.jpg
ORGANIZER;CN="Cheryl Hamilton":MAILTO:chamilton.maui@gmail.com
END:VEVENT
END:VCALENDAR