BEGIN:VCALENDAR
VERSION:2.0
PRODID:-//Create With Cheryl - Cheryl Hamilton - ECPv6.15.17.1//NONSGML v1.0//EN
CALSCALE:GREGORIAN
METHOD:PUBLISH
X-ORIGINAL-URL:https://createwithcheryl.me
X-WR-CALDESC:Events for Create With Cheryl - Cheryl Hamilton
REFRESH-INTERVAL;VALUE=DURATION:PT1H
X-Robots-Tag:noindex
X-PUBLISHED-TTL:PT1H
BEGIN:VTIMEZONE
TZID:Pacific/Honolulu
BEGIN:STANDARD
TZOFFSETFROM:-1000
TZOFFSETTO:-1000
TZNAME:HST
DTSTART:20220101T000000
END:STANDARD
END:VTIMEZONE
BEGIN:VEVENT
DTSTART;TZID=Pacific/Honolulu:20231114T100000
DTEND;TZID=Pacific/Honolulu:20231114T120000
DTSTAMP:20260421T104145
CREATED:20231019T180305Z
LAST-MODIFIED:20231019T180305Z
UID:85679-1699956000-1699963200@createwithcheryl.me
SUMMARY:Creative Cards
DESCRIPTION:You won’t want to miss this fun class!  We’ll be making two Fun Fold Cards with a little shopping bag inside to hold your gift card!!\nOne is this birthday one\, and we’ll also have a Christmas one. We’ll have a very simple third project also.\nRSVP soon as space is limited!\nPlease bring your own adhesive.\nCLASS FEE: $20 OR FREE WITH $30 ORDER
URL:https://createwithcheryl.me/event/creative-cards/
LOCATION:1194 W. Kuiaha Road\, Haiku\, HI  96708\, 1194 W. Kuiaha Road\, Haiku\, HI\, 96708\, United States
CATEGORIES:Christmas,Fun Folds!
ATTACH;FMTTYPE=image/jpeg:https://createwithcheryl.me/wp-content/uploads/2023/10/IMG_9449.jpeg
ORGANIZER;CN="Cheryl Hamilton":MAILTO:chamilton.maui@gmail.com
END:VEVENT
END:VCALENDAR