BEGIN:VCALENDAR
VERSION:2.0
PRODID:-//Create With Cheryl - Cheryl Hamilton - ECPv6.15.17.1//NONSGML v1.0//EN
CALSCALE:GREGORIAN
METHOD:PUBLISH
X-ORIGINAL-URL:https://createwithcheryl.me
X-WR-CALDESC:Events for Create With Cheryl - Cheryl Hamilton
REFRESH-INTERVAL;VALUE=DURATION:PT1H
X-Robots-Tag:noindex
X-PUBLISHED-TTL:PT1H
BEGIN:VTIMEZONE
TZID:Pacific/Honolulu
BEGIN:STANDARD
TZOFFSETFROM:-1000
TZOFFSETTO:-1000
TZNAME:HST
DTSTART:20180101T000000
END:STANDARD
END:VTIMEZONE
BEGIN:VEVENT
DTSTART;TZID=Pacific/Honolulu:20190401T100000
DTEND;TZID=Pacific/Honolulu:20190401T140000
DTSTAMP:20260425T030240
CREATED:20190401T051131Z
LAST-MODIFIED:20190401T051131Z
UID:77612-1554112800-1554127200@createwithcheryl.me
SUMMARY:Spring Sampler
DESCRIPTION:Join us for this fun class where we’ll make this beautiful 12 x 12 frame for Spring!  My customers (and I!) love samplers!  They wanted the lily and the bunny and gingham paper\, so this is what I came up with.  Bring your lunches & plan to spend several hours with me!! \nCost is $25 or FREE with your $50 order. \nFrame not included.  Pick yours up before class at Ben Franklin.  Please bring your own adhesive or you can purchase it at the class.
URL:https://createwithcheryl.me/event/spring-sampler/
LOCATION:Cheryl’s Stamp Room\, 1194 W. Kuiaha Road\, Haiku\, HI\, 96708\, United States
CATEGORIES:Samplers
ATTACH;FMTTYPE=image/jpeg:https://createwithcheryl.me/wp-content/uploads/2019/03/Spring-Sampler1.jpg
ORGANIZER;CN="Cheryl Hamilton":MAILTO:chamilton.maui@gmail.com
END:VEVENT
END:VCALENDAR