BEGIN:VCALENDAR
VERSION:2.0
PRODID:-//Create With Cheryl - Cheryl Hamilton - ECPv6.15.17.1//NONSGML v1.0//EN
CALSCALE:GREGORIAN
METHOD:PUBLISH
X-ORIGINAL-URL:https://createwithcheryl.me
X-WR-CALDESC:Events for Create With Cheryl - Cheryl Hamilton
REFRESH-INTERVAL;VALUE=DURATION:PT1H
X-Robots-Tag:noindex
X-PUBLISHED-TTL:PT1H
BEGIN:VTIMEZONE
TZID:Pacific/Honolulu
BEGIN:STANDARD
TZOFFSETFROM:-1000
TZOFFSETTO:-1000
TZNAME:HST
DTSTART:20180101T000000
END:STANDARD
END:VTIMEZONE
BEGIN:VEVENT
DTSTART;TZID=Pacific/Honolulu:20191026T100000
DTEND;TZID=Pacific/Honolulu:20191026T140000
DTSTAMP:20260424T175304
CREATED:20191018T055240Z
LAST-MODIFIED:20191020T031556Z
UID:78401-1572084000-1572098400@createwithcheryl.me
SUMMARY:Thanksgiving/Fall Sampler
DESCRIPTION:  \nWouldn’t you love to have this on your wall for Thanksgiving?! \nThis fun home decor piece uses Come to Gather Designer Series Paper and coordinating colors. \n12″ x 12″ frame not included. \nPlease bring food to share because we might be at this for a few hours…  Also bring Tombo & a tiny glue applicator\, if you have one\, & Wink of Stella.
URL:https://createwithcheryl.me/event/thanksgiving-fall-sampler-2/
LOCATION:Cheryl’s Stamp Room\, 1194 W. Kuiaha Road\, Haiku\, HI\, 96708\, United States
CATEGORIES:Samplers
ATTACH;FMTTYPE=image/jpeg:https://createwithcheryl.me/wp-content/uploads/2019/10/Blessed-Sampler.jpg
ORGANIZER;CN="Cheryl Hamilton":MAILTO:chamilton.maui@gmail.com
END:VEVENT
END:VCALENDAR