BEGIN:VCALENDAR
VERSION:2.0
PRODID:-//Create With Cheryl - Cheryl Hamilton - ECPv6.15.17.1//NONSGML v1.0//EN
CALSCALE:GREGORIAN
METHOD:PUBLISH
X-ORIGINAL-URL:https://createwithcheryl.me
X-WR-CALDESC:Events for Create With Cheryl - Cheryl Hamilton
REFRESH-INTERVAL;VALUE=DURATION:PT1H
X-Robots-Tag:noindex
X-PUBLISHED-TTL:PT1H
BEGIN:VTIMEZONE
TZID:Pacific/Honolulu
BEGIN:STANDARD
TZOFFSETFROM:-1000
TZOFFSETTO:-1000
TZNAME:HST
DTSTART:20220101T000000
END:STANDARD
END:VTIMEZONE
BEGIN:VEVENT
DTSTART;TZID=Pacific/Honolulu:20231031T100000
DTEND;TZID=Pacific/Honolulu:20231031T120000
DTSTAMP:20260420T052848
CREATED:20231018T192055Z
LAST-MODIFIED:20231019T172009Z
UID:85670-1698746400-1698753600@createwithcheryl.me
SUMMARY:O Holy Night Framed Art
DESCRIPTION:I know\, the picture is awful\, but when I saw this beautiful Suite\, I knew I wanted to make frame it to show it off! \nThis pretty home decor piece uses O Holy Night Designer Series Paper along with the Night Divine Bundle from the Suite. \nCan you see the lights in the background? I’ll show you how to place those so that it will shine in a darkened room! \n9″ x 9″ frame is included in the class fee.   \nYou’ll need to order the O Holy Night DSP (#161986) and bring it to class\, along with your adhesives. \nClass size is limited\, so don’t delay! \nHere’s a picture of Mary\, Mona\, & me with our masterpieces!!
URL:https://createwithcheryl.me/event/o-holy-night-framed-art/
LOCATION:1194 W. Kuiaha Road\, Haiku\, HI  96708\, 1194 W. Kuiaha Road\, Haiku\, HI\, 96708\, United States
CATEGORIES:Christmas,Samplers
ATTACH;FMTTYPE=image/jpeg:https://createwithcheryl.me/wp-content/uploads/2023/10/75E5E03C-4498-4384-AFA4-5937D126F991_1_201_a.jpeg
ORGANIZER;CN="Cheryl Hamilton":MAILTO:chamilton.maui@gmail.com
END:VEVENT
END:VCALENDAR