BEGIN:VCALENDAR
VERSION:2.0
PRODID:-//Create With Cheryl - Cheryl Hamilton - ECPv6.15.17.1//NONSGML v1.0//EN
CALSCALE:GREGORIAN
METHOD:PUBLISH
X-ORIGINAL-URL:https://createwithcheryl.me
X-WR-CALDESC:Events for Create With Cheryl - Cheryl Hamilton
REFRESH-INTERVAL;VALUE=DURATION:PT1H
X-Robots-Tag:noindex
X-PUBLISHED-TTL:PT1H
BEGIN:VTIMEZONE
TZID:Pacific/Honolulu
BEGIN:STANDARD
TZOFFSETFROM:-1000
TZOFFSETTO:-1000
TZNAME:HST
DTSTART:20180101T000000
END:STANDARD
END:VTIMEZONE
BEGIN:VEVENT
DTSTART;TZID=Pacific/Honolulu:20191221T100000
DTEND;TZID=Pacific/Honolulu:20191221T120000
DTSTAMP:20260424T175558
CREATED:20191216T054031Z
LAST-MODIFIED:20191216T054031Z
UID:78557-1576922400-1576929600@createwithcheryl.me
SUMMARY:JOY Framed Art
DESCRIPTION:Join me at class where we’ll make this beautiful framed art piece using Snow Globe Shaker Domes.  Make it your own by using the church or deer or bears\, or you can bring a favorite photo from home!  Dimensions of the globe are 3″ x 2 5/8″. \nPurchase your own 5 x 7 frame before class or I’ll have a few extras for sale for just $7. \nWe’ll have coffee & cocoa fixin’s to enjoy. \nHere’s one that’s a little different that you can make:
URL:https://createwithcheryl.me/event/joy-framed-art/
LOCATION:1194 W. Kuiaha Road\, Haiku\, HI  96708\, 1194 W. Kuiaha Road\, Haiku\, HI\, 96708\, United States
CATEGORIES:Samplers
ATTACH;FMTTYPE=image/jpeg:https://createwithcheryl.me/wp-content/uploads/2019/12/JOY-snow-globe-createwithcheryl-diychristmas-snowglobe.jpg
ORGANIZER;CN="Cheryl Hamilton":MAILTO:chamilton.maui@gmail.com
END:VEVENT
END:VCALENDAR