BEGIN:VCALENDAR
VERSION:2.0
PRODID:-//Create With Cheryl - Cheryl Hamilton - ECPv6.15.17.1//NONSGML v1.0//EN
CALSCALE:GREGORIAN
METHOD:PUBLISH
X-ORIGINAL-URL:https://createwithcheryl.me
X-WR-CALDESC:Events for Create With Cheryl - Cheryl Hamilton
REFRESH-INTERVAL;VALUE=DURATION:PT1H
X-Robots-Tag:noindex
X-PUBLISHED-TTL:PT1H
BEGIN:VTIMEZONE
TZID:Pacific/Honolulu
BEGIN:STANDARD
TZOFFSETFROM:-1000
TZOFFSETTO:-1000
TZNAME:HST
DTSTART:20190101T000000
END:STANDARD
END:VTIMEZONE
BEGIN:VEVENT
DTSTART;TZID=Pacific/Honolulu:20200224T100000
DTEND;TZID=Pacific/Honolulu:20200224T140000
DTSTAMP:20260425T043003
CREATED:20200204T053727Z
LAST-MODIFIED:20200216T035735Z
UID:78827-1582538400-1582552800@createwithcheryl.me
SUMMARY:Tropical Oasis Sampler
DESCRIPTION:I’m excited to come up with a Tropical Oasis Sampler because we live in Hawaii and this will look great in our ohanas! \nThis fun home decor piece uses Tropical Oasis Designer Series Paper and coordinating colors. \n12″ x 12″ frame not included.  I purchased a brown frame from Ben Franklin. \nPlease bring Tombo & a tiny glue applicator\, if you have one\, & Wink of Stella. \nClass fee is $30 or FREE with your $60 order.
URL:https://createwithcheryl.me/event/tropical-oasis-sampler-2/
LOCATION:1194 W. Kuiaha Road\, Haiku\, HI  96708\, 1194 W. Kuiaha Road\, Haiku\, HI\, 96708\, United States
CATEGORIES:Samplers
ATTACH;FMTTYPE=image/jpeg:https://createwithcheryl.me/wp-content/uploads/2020/02/Tropical-Oasis-Samplercherylhamilton-createwithcheryl-stampinup-rubberstamping-diy-crafts-papercrafting-handmadecards-papercrafter-craftblogger-lovemyjob-samplers-hawaii.jpg
ORGANIZER;CN="Cheryl Hamilton":MAILTO:chamilton.maui@gmail.com
END:VEVENT
BEGIN:VEVENT
DTSTART;TZID=Pacific/Honolulu:20231031T100000
DTEND;TZID=Pacific/Honolulu:20231031T120000
DTSTAMP:20260425T043003
CREATED:20231018T192055Z
LAST-MODIFIED:20231019T172009Z
UID:85670-1698746400-1698753600@createwithcheryl.me
SUMMARY:O Holy Night Framed Art
DESCRIPTION:I know\, the picture is awful\, but when I saw this beautiful Suite\, I knew I wanted to make frame it to show it off! \nThis pretty home decor piece uses O Holy Night Designer Series Paper along with the Night Divine Bundle from the Suite. \nCan you see the lights in the background? I’ll show you how to place those so that it will shine in a darkened room! \n9″ x 9″ frame is included in the class fee.   \nYou’ll need to order the O Holy Night DSP (#161986) and bring it to class\, along with your adhesives. \nClass size is limited\, so don’t delay! \nHere’s a picture of Mary\, Mona\, & me with our masterpieces!!
URL:https://createwithcheryl.me/event/o-holy-night-framed-art/
LOCATION:1194 W. Kuiaha Road\, Haiku\, HI  96708\, 1194 W. Kuiaha Road\, Haiku\, HI\, 96708\, United States
CATEGORIES:Christmas,Samplers
ATTACH;FMTTYPE=image/jpeg:https://createwithcheryl.me/wp-content/uploads/2023/10/75E5E03C-4498-4384-AFA4-5937D126F991_1_201_a.jpeg
ORGANIZER;CN="Cheryl Hamilton":MAILTO:chamilton.maui@gmail.com
END:VEVENT
BEGIN:VEVENT
DTSTART;TZID=Pacific/Honolulu:20250905T080000
DTEND;TZID=Pacific/Honolulu:20250905T170000
DTSTAMP:20260425T043003
CREATED:20250906T160015Z
LAST-MODIFIED:20250906T020605Z
UID:89699-1757059200-1757091600@createwithcheryl.me
SUMMARY:Kintsugi Inspirations Sampler
DESCRIPTION:Aloha Stampers!\nI’m excited to show you a new sampler I’ve made focusing on the Kintsugi Inspirations Suite!\n\nThis uses products from the Kintsugi Inspirations Suite Collection- inspired by the centuries-old Japanese technique of repairing broken pottery with lacquer and gold\, honoring beauty in imperfection.\n\n\n\n \n \nIf you’d like to make this sampler\, I’m offering 2 classes at my home in Haiku\, Maui.  Saturday\, September 20th (9 am – 2 pm) or Monday\, September 22 (9 am – 2 pm).  Go to my EVENTS  for more information. RSVP by September 15th.\nIf you’re not on Maui\, you can order the PDF Tutorial for $15 by CLICKING HERE.\nThanks for stopping by today!  I hope this inspires you to do something creative!\n \n  \n  \n  \n  \nVisit my online store here. \nFollow me on Facebook\, Instagram\, Pinterest\, YouTube \nSHOP & SAVE: Clearance Rack – save up to 70% \nThe $99 Starter Kit is the best deal of ALL!  Click for info \n 
URL:https://createwithcheryl.me/event/kintsugi-inspirations-sampler/
LOCATION:HI
CATEGORIES:Samplers
ATTACH;FMTTYPE=image/jpeg:https://createwithcheryl.me/wp-content/uploads/2025/09/IMG_2848.jpeg
END:VEVENT
BEGIN:VEVENT
DTSTART;TZID=Pacific/Honolulu:20250920T090000
DTEND;TZID=Pacific/Honolulu:20250920T140000
DTSTAMP:20260425T043004
CREATED:20250831T193332Z
LAST-MODIFIED:20250831T193332Z
UID:89659-1758358800-1758376800@createwithcheryl.me
SUMMARY:Kintsugi Sampler
DESCRIPTION:Wouldn’t you love to have this hanging on your wall?!\nThis fun home decor piece uses Kintsugi Inspirations Specialty Designer Series Paper with coordinating colors.\n12″ x 12″ frame not included.\nPlease bring food to share because we might be at this for a few hours…  Please bring your own adhesives & Wink of Stella.
URL:https://createwithcheryl.me/event/kintsugi-sampler/
LOCATION:1194 W. Kuiaha Road\, Haiku\, HI  96708\, 1194 W. Kuiaha Road\, Haiku\, HI\, 96708\, United States
CATEGORIES:Samplers
ATTACH;FMTTYPE=image/jpeg:https://createwithcheryl.me/wp-content/uploads/2025/08/IMG_2831.jpeg
END:VEVENT
BEGIN:VEVENT
DTSTART;TZID=Pacific/Honolulu:20250922T090000
DTEND;TZID=Pacific/Honolulu:20250922T140000
DTSTAMP:20260425T043004
CREATED:20250902T000029Z
LAST-MODIFIED:20250902T000029Z
UID:89667-1758531600-1758549600@createwithcheryl.me
SUMMARY:Kintsugi Sampler
DESCRIPTION:Wouldn’t you love to have this hanging on your wall?!\nThis fun home decor piece uses Kintsugi Inspirations Specialty Designer Series Paper with coordinating colors.\n12″ x 12″ frame not included.\nPlease bring food to share because we might be at this for a few hours…  Please bring your own adhesives & Wink of Stella.
URL:https://createwithcheryl.me/event/kintsugi-sampler-2/
LOCATION:1194 W. Kuiaha Road\, Haiku\, HI  96708\, 1194 W. Kuiaha Road\, Haiku\, HI\, 96708\, United States
CATEGORIES:Samplers
ATTACH;FMTTYPE=image/jpeg:https://createwithcheryl.me/wp-content/uploads/2025/08/IMG_2831.jpeg
ORGANIZER;CN="Cheryl Hamilton":MAILTO:chamilton.maui@gmail.com
END:VEVENT
END:VCALENDAR