BEGIN:VCALENDAR
VERSION:2.0
PRODID:-//Create With Cheryl - Cheryl Hamilton - ECPv6.15.17.1//NONSGML v1.0//EN
CALSCALE:GREGORIAN
METHOD:PUBLISH
X-ORIGINAL-URL:https://createwithcheryl.me
X-WR-CALDESC:Events for Create With Cheryl - Cheryl Hamilton
REFRESH-INTERVAL;VALUE=DURATION:PT1H
X-Robots-Tag:noindex
X-PUBLISHED-TTL:PT1H
BEGIN:VTIMEZONE
TZID:Pacific/Honolulu
BEGIN:STANDARD
TZOFFSETFROM:-1000
TZOFFSETTO:-1000
TZNAME:HST
DTSTART:20200101T000000
END:STANDARD
END:VTIMEZONE
BEGIN:VEVENT
DTSTART;TZID=Pacific/Honolulu:20210821T100000
DTEND;TZID=Pacific/Honolulu:20210821T130000
DTSTAMP:20260421T233238
CREATED:20210810T203326Z
LAST-MODIFIED:20210810T203326Z
UID:81658-1629540000-1629550800@createwithcheryl.me
SUMMARY:Stamp-a-Stack
DESCRIPTION:Don’t miss this popular class where you’ll go home with a big stack of cards! \nWe have a gorgeous Bamboo Card\, cute baby cards\, a very creative gift box and more… \nCome prepared to stamp at 4 different tables\, where you’ll make 9 cards (3 designs) and a 3-D item!\nHosted by Marylou\, Mona\, Perky & me! \n\nSaturday\, August 21 at 10:00 am\n1194 W. Kuiaha Road in Haiku\nYummy treats & door prizes!\n$40 class fee\nDEADLINE TO REGISTER:  AUGUST 15
URL:https://createwithcheryl.me/event/stamp-a-stack-4/
LOCATION:1194 W. Kuiaha Road\, Haiku\, HI  96708\, 1194 W. Kuiaha Road\, Haiku\, HI\, 96708\, United States
CATEGORIES:Stamp a Stack
ATTACH;FMTTYPE=image/jpeg:https://createwithcheryl.me/wp-content/uploads/2021/08/74KkUdH0QAmzeWOQP7ihlQ_thumb_4147.jpg
ORGANIZER;CN="Cheryl Hamilton":MAILTO:chamilton.maui@gmail.com
END:VEVENT
END:VCALENDAR