BEGIN:VCALENDAR
VERSION:2.0
PRODID:-//Create With Cheryl - Cheryl Hamilton - ECPv6.15.17.1//NONSGML v1.0//EN
CALSCALE:GREGORIAN
METHOD:PUBLISH
X-ORIGINAL-URL:https://createwithcheryl.me
X-WR-CALDESC:Events for Create With Cheryl - Cheryl Hamilton
REFRESH-INTERVAL;VALUE=DURATION:PT1H
X-Robots-Tag:noindex
X-PUBLISHED-TTL:PT1H
BEGIN:VTIMEZONE
TZID:Pacific/Honolulu
BEGIN:STANDARD
TZOFFSETFROM:-1000
TZOFFSETTO:-1000
TZNAME:HST
DTSTART:20220101T000000
END:STANDARD
END:VTIMEZONE
BEGIN:VEVENT
DTSTART;TZID=Pacific/Honolulu:20230621T080000
DTEND;TZID=Pacific/Honolulu:20230621T170000
DTSTAMP:20260419T184155
CREATED:20230621T174133Z
LAST-MODIFIED:20230621T174133Z
UID:85017-1687334400-1687366800@createwithcheryl.me
SUMMARY:STAMP-A-STACK
DESCRIPTION:  \nSATURDAY\, JULY 22\, 10 AM – 1 PM \n1194 W. Kuiaha Road in Haiku \nDon’t miss this popular class where you’ll go home with 12 beautiful cards with matching envelopes!\n  \nFour demonstrators have prepared special cards for you to make:\n\n\nSassi has a Fun Fold card with a corner book mark\n\n\nMona has 3 different cards using the Petal Park Builder Punch\n\n\nLois is showing us how to make 3 different Fun Folds\n\n\nCheryl has a pretty beach scene you’ll love\n\n\nMake 4 different types of cards!  12 total!\nDoor prizes & snacks\n$40 class fee\n\nRSVP to reserve your spot at this fun event!!\nText (808) 283-1643 to RSVP.\nBeginners & guests welcome!
URL:https://createwithcheryl.me/event/stamp-a-stack-6/
LOCATION:HI
CATEGORIES:Stamp a Stack
ATTACH;FMTTYPE=image/jpeg:https://createwithcheryl.me/wp-content/uploads/2023/06/Instagram-Post-1.jpg
END:VEVENT
END:VCALENDAR