BEGIN:VCALENDAR
VERSION:2.0
PRODID:-//Create With Cheryl - Cheryl Hamilton - ECPv6.15.17.1//NONSGML v1.0//EN
CALSCALE:GREGORIAN
METHOD:PUBLISH
X-ORIGINAL-URL:https://createwithcheryl.me
X-WR-CALDESC:Events for Create With Cheryl - Cheryl Hamilton
REFRESH-INTERVAL;VALUE=DURATION:PT1H
X-Robots-Tag:noindex
X-PUBLISHED-TTL:PT1H
BEGIN:VTIMEZONE
TZID:Pacific/Honolulu
BEGIN:STANDARD
TZOFFSETFROM:-1000
TZOFFSETTO:-1000
TZNAME:HST
DTSTART:20180101T000000
END:STANDARD
END:VTIMEZONE
BEGIN:VEVENT
DTSTART;TZID=Pacific/Honolulu:20191016T100000
DTEND;TZID=Pacific/Honolulu:20191016T120000
DTSTAMP:20260424T050617
CREATED:20190930T003958Z
LAST-MODIFIED:20191007T193716Z
UID:78316-1571220000-1571227200@createwithcheryl.me
SUMMARY:Technique Class
DESCRIPTION:Focus on a new Technique each month in this fun class! \nWe’ll make 3 cards plus an example page for your album.  Instructions included. \nOctober:  Shaker Cards\n \nThis event is $15 or FREE with your $25 order placed that day.
URL:https://createwithcheryl.me/event/technique-class-7/
LOCATION:Cheryl’s Stamp Room\, 1194 W. Kuiaha Road\, Haiku\, HI\, 96708\, United States
CATEGORIES:Techniques
ATTACH;FMTTYPE=image/jpeg:https://createwithcheryl.me/wp-content/uploads/2019/10/Autumn-Shaker2.jpg
ORGANIZER;CN="Cheryl Hamilton":MAILTO:chamilton.maui@gmail.com
END:VEVENT
END:VCALENDAR