BEGIN:VCALENDAR
VERSION:2.0
PRODID:-//Create With Cheryl - Cheryl Hamilton - ECPv6.15.17.1//NONSGML v1.0//EN
CALSCALE:GREGORIAN
METHOD:PUBLISH
X-ORIGINAL-URL:https://createwithcheryl.me
X-WR-CALDESC:Events for Create With Cheryl - Cheryl Hamilton
REFRESH-INTERVAL;VALUE=DURATION:PT1H
X-Robots-Tag:noindex
X-PUBLISHED-TTL:PT1H
BEGIN:VTIMEZONE
TZID:Pacific/Honolulu
BEGIN:STANDARD
TZOFFSETFROM:-1000
TZOFFSETTO:-1000
TZNAME:HST
DTSTART:20200101T000000
END:STANDARD
END:VTIMEZONE
BEGIN:VEVENT
DTSTART;TZID=Pacific/Honolulu:20210802T130000
DTEND;TZID=Pacific/Honolulu:20210802T150000
DTSTAMP:20260422T075209
CREATED:20210727T195012Z
LAST-MODIFIED:20210727T195012Z
UID:81564-1627909200-1627916400@createwithcheryl.me
SUMMARY:Christmas in August
DESCRIPTION:Get a big head start on Christmas this year!  This gorgeous card includes several new products and techniques! We’ll be making 2 different Christmas Cards plus a 3-D  gift item. \nCost of class is $15 or FREE with a $30 order. \nOUR HOST THIS MONTH IS MARY. PLEASE USE THIS HOST CODE IF ORDERING ONLINE: WY6H462T
URL:https://createwithcheryl.me/event/christmas-in-august-3/
LOCATION:1194 W. Kuiaha Road\, Haiku\, HI  96708\, 1194 W. Kuiaha Road\, Haiku\, HI\, 96708\, United States
CATEGORIES:Christmas,Techniques
ATTACH;FMTTYPE=image/jpeg:https://createwithcheryl.me/wp-content/uploads/2021/07/4i2MqW39R4R9NabZmFKgw_thumb_4121.jpg
ORGANIZER;CN="Cheryl Hamilton":MAILTO:chamilton.maui@gmail.com
END:VEVENT
END:VCALENDAR