BEGIN:VCALENDAR
VERSION:2.0
PRODID:-//Create With Cheryl - Cheryl Hamilton - ECPv6.15.17.1//NONSGML v1.0//EN
CALSCALE:GREGORIAN
METHOD:PUBLISH
X-WR-CALNAME:Create With Cheryl - Cheryl Hamilton
X-ORIGINAL-URL:https://createwithcheryl.me
X-WR-CALDESC:Events for Create With Cheryl - Cheryl Hamilton
REFRESH-INTERVAL;VALUE=DURATION:PT1H
X-Robots-Tag:noindex
X-PUBLISHED-TTL:PT1H
BEGIN:VTIMEZONE
TZID:Pacific/Honolulu
BEGIN:STANDARD
TZOFFSETFROM:-1000
TZOFFSETTO:-1000
TZNAME:HST
DTSTART:20200101T000000
END:STANDARD
END:VTIMEZONE
BEGIN:VEVENT
DTSTART;TZID=Pacific/Honolulu:20210719T130000
DTEND;TZID=Pacific/Honolulu:20210719T150000
DTSTAMP:20260423T131630
CREATED:20210712T010914Z
LAST-MODIFIED:20210712T010914Z
UID:81482-1626699600-1626706800@createwithcheryl.me
SUMMARY:Technique Class: Starburst Technique
DESCRIPTION:Focus on a new Technique each month in this fun class! \nWe’ll make 3 cards plus an example page for your album.  Instructions included. \nJuly: Starburst Technique\nThis event is $15 or FREE with your $30 order placed that day.
URL:https://createwithcheryl.me/event/technique-class-starburst-technique/
LOCATION:1194 W. Kuiaha Road\, Haiku\, HI  96708\, 1194 W. Kuiaha Road\, Haiku\, HI\, 96708\, United States
CATEGORIES:Techniques
ATTACH;FMTTYPE=image/jpeg:https://createwithcheryl.me/wp-content/uploads/2021/07/v8cxsDzuQ4WN9cmd6sJLGQ_thumb_40a5.jpg
ORGANIZER;CN="Cheryl Hamilton":MAILTO:chamilton.maui@gmail.com
END:VEVENT
BEGIN:VEVENT
DTSTART;TZID=Pacific/Honolulu:20210802T130000
DTEND;TZID=Pacific/Honolulu:20210802T150000
DTSTAMP:20260423T131630
CREATED:20210727T195012Z
LAST-MODIFIED:20210727T195012Z
UID:81564-1627909200-1627916400@createwithcheryl.me
SUMMARY:Christmas in August
DESCRIPTION:Get a big head start on Christmas this year!  This gorgeous card includes several new products and techniques! We’ll be making 2 different Christmas Cards plus a 3-D  gift item. \nCost of class is $15 or FREE with a $30 order. \nOUR HOST THIS MONTH IS MARY. PLEASE USE THIS HOST CODE IF ORDERING ONLINE: WY6H462T
URL:https://createwithcheryl.me/event/christmas-in-august-3/
LOCATION:1194 W. Kuiaha Road\, Haiku\, HI  96708\, 1194 W. Kuiaha Road\, Haiku\, HI\, 96708\, United States
CATEGORIES:Christmas,Techniques
ATTACH;FMTTYPE=image/jpeg:https://createwithcheryl.me/wp-content/uploads/2021/07/4i2MqW39R4R9NabZmFKgw_thumb_4121.jpg
ORGANIZER;CN="Cheryl Hamilton":MAILTO:chamilton.maui@gmail.com
END:VEVENT
BEGIN:VEVENT
DTSTART;TZID=Pacific/Honolulu:20220124T130000
DTEND;TZID=Pacific/Honolulu:20220124T150000
DTSTAMP:20260423T131630
CREATED:20220112T000307Z
LAST-MODIFIED:20220112T000307Z
UID:82703-1643029200-1643036400@createwithcheryl.me
SUMMARY:Technique Class- Black Ice
DESCRIPTION:Focus on a new Technique each month in this fun class! \nWe’ll make 3 cards plus an example page for your album.  Instructions included. \nJanuary: Black Ice Technique\nThis event is $15 or FREE with your $30 order placed that day.
URL:https://createwithcheryl.me/event/technique-class-black-ice/
LOCATION:1194 W. Kuiaha Road\, Haiku\, HI  96708\, 1194 W. Kuiaha Road\, Haiku\, HI\, 96708\, United States
CATEGORIES:Techniques
ATTACH;FMTTYPE=image/jpeg:https://createwithcheryl.me/wp-content/uploads/2022/01/f99Be4xSJGFlCVIUYCnNw_thumb_4c8f.jpg
ORGANIZER;CN="Cheryl Hamilton":MAILTO:chamilton.maui@gmail.com
END:VEVENT
BEGIN:VEVENT
DTSTART;TZID=Pacific/Honolulu:20220328T130000
DTEND;TZID=Pacific/Honolulu:20220328T150000
DTSTAMP:20260423T131630
CREATED:20220319T013738Z
LAST-MODIFIED:20220319T013738Z
UID:83048-1648472400-1648479600@createwithcheryl.me
SUMMARY:Technique Class- Split Circle
DESCRIPTION:Focus on a new Technique each month in this fun class! \nWe’ll make 3 cards plus an example page for your album.  Instructions included. \nMarch: Split Circle Technique\nThis event is $15 or FREE with your $30 order placed that day.
URL:https://createwithcheryl.me/event/technique-class-split-circle/
LOCATION:1194 W. Kuiaha Road\, Haiku\, HI  96708\, 1194 W. Kuiaha Road\, Haiku\, HI\, 96708\, United States
CATEGORIES:Techniques
ATTACH;FMTTYPE=image/jpeg:https://createwithcheryl.me/wp-content/uploads/2022/03/AlijOio1RYuxtGw28RD4Cw_thumb_4fc4.jpg
ORGANIZER;CN="Cheryl Hamilton":MAILTO:chamilton.maui@gmail.com
END:VEVENT
BEGIN:VEVENT
DTSTART;TZID=Pacific/Honolulu:20250225T090000
DTEND;TZID=Pacific/Honolulu:20250225T110000
DTSTAMP:20260423T131630
CREATED:20250107T233557Z
LAST-MODIFIED:20250211T185359Z
UID:88413-1740474000-1740481200@createwithcheryl.me
SUMMARY:Technique Class: Learn the Smooshing Technique!
DESCRIPTION:Get ready to dive into the creative world of color blending with the Smooshing Technique! This fun and easy technique adds vibrant\, one-of-a-kind backgrounds to your cards and projects\, making every creation uniquely yours.\nIn this class\, you’ll make 3 gorgeous cards and receive detailed instructions for your Technique Binder\, so you can master and revisit this technique anytime.\nClass Fee:\n\n\n$20\n\n\nOR FREE with a $30 Stampin’ Up! order placed during the class.\n\n\nLet’s have some creative fun! I can’t wait to see you there!
URL:https://createwithcheryl.me/event/technique-class-learn-the-smooshing-technique-2/
LOCATION:1194 W. Kuiaha Road\, Haiku\, HI  96708\, 1194 W. Kuiaha Road\, Haiku\, HI\, 96708\, United States
CATEGORIES:Techniques
ATTACH;FMTTYPE=image/jpeg:https://createwithcheryl.me/wp-content/uploads/2025/01/IMG_8979.jpeg
ORGANIZER;CN="Cheryl Hamilton":MAILTO:chamilton.maui@gmail.com
END:VEVENT
BEGIN:VEVENT
DTSTART;TZID=Pacific/Honolulu:20260126T100000
DTEND;TZID=Pacific/Honolulu:20260126T120000
DTSTAMP:20260423T131630
CREATED:20251215T040813Z
LAST-MODIFIED:20251215T040813Z
UID:90077-1769421600-1769428800@createwithcheryl.me
SUMMARY:Technique Class - Sponge Dauber Coloring!
DESCRIPTION:Apply color to your image using Sponge Daubers. You can even color your ribbon! This technique opens up a world of possibilities\, allowing you to experiment with various inks and color combinations to create one-of-a-kind designs for your cards.\nIn this class\, you’ll make 3 gorgeous cards and receive detailed instructions for your Technique Binder\, so you can master and revisit this technique anytime.\nClass Fee:\n\n\n$20\n\n\nOR FREE with a $40 Stampin’ Up! order placed during the class.\n\n\nLet’s have some creative fun! I can’t wait to see you there!
URL:https://createwithcheryl.me/event/technique-class-sponge-dauber-coloring/
LOCATION:1194 W. Kuiaha Road\, Haiku\, HI  96708\, 1194 W. Kuiaha Road\, Haiku\, HI\, 96708\, United States
CATEGORIES:Techniques
ATTACH;FMTTYPE=image/jpeg:https://createwithcheryl.me/wp-content/uploads/2025/11/IMG_3683.jpeg
ORGANIZER;CN="Cheryl Hamilton":MAILTO:chamilton.maui@gmail.com
END:VEVENT
BEGIN:VEVENT
DTSTART;TZID=Pacific/Honolulu:20260126T130000
DTEND;TZID=Pacific/Honolulu:20260126T150000
DTSTAMP:20260423T131630
CREATED:20251215T040935Z
LAST-MODIFIED:20251215T040935Z
UID:90079-1769432400-1769439600@createwithcheryl.me
SUMMARY:Technique Class - Sponge Dauber Coloring
DESCRIPTION:Apply color to your image using Sponge Daubers. You can even color your ribbon! This technique opens up a world of possibilities\, allowing you to experiment with various inks and color combinations to create one-of-a-kind designs for your cards.\nIn this class\, you’ll make 3 gorgeous cards and receive detailed instructions for your Technique Binder\, so you can master and revisit this technique anytime.\nClass Fee:\n\n\n$20\n\n\nOR FREE with a $40 Stampin’ Up! order placed during the class.\n\n\nLet’s have some creative fun! I can’t wait to see you there!
URL:https://createwithcheryl.me/event/technique-class-sponge-dauber-coloring-2/
LOCATION:1194 W. Kuiaha Road\, Haiku\, HI  96708\, 1194 W. Kuiaha Road\, Haiku\, HI\, 96708\, United States
CATEGORIES:Techniques
ATTACH;FMTTYPE=image/jpeg:https://createwithcheryl.me/wp-content/uploads/2025/11/IMG_3683.jpeg
ORGANIZER;CN="Cheryl Hamilton":MAILTO:chamilton.maui@gmail.com
END:VEVENT
BEGIN:VEVENT
DTSTART;TZID=Pacific/Honolulu:20260223T100000
DTEND;TZID=Pacific/Honolulu:20260223T120000
DTSTAMP:20260423T131630
CREATED:20251215T042250Z
LAST-MODIFIED:20251215T042250Z
UID:90081-1771840800-1771848000@createwithcheryl.me
SUMMARY:Technique Class - 4 in 1 Stamping Technique
DESCRIPTION:Discover how one sheet of paper can turn into four cards with four completely different looks! In this fun\, technique-focused class\, you’ll learn the 4-in-1 Stamping Technique\, a clever and creative way to stretch your supplies while making beautiful handmade cards.\nDuring the class\, you’ll create three gorgeous finished cards\, plus an extra card designed especially for your Technique Binder. You’ll also receive clear\, step-by-step instructions\, so you can confidently master this technique and revisit it anytime you’d like.\nPerfect for stampers who love learning new ideas\, getting more from their supplies\, and adding a go-to technique to their creative toolbox! 🌺\nClass Fee:\n\n\n$20\n\n\nOR FREE with a $40 Stampin’ Up! order placed during the class.\n\n\nLet’s have some creative fun! I can’t wait to see you there!
URL:https://createwithcheryl.me/event/technique-class-4-in-1-stamping-technique/
LOCATION:1194 W. Kuiaha Road\, Haiku\, HI  96708\, 1194 W. Kuiaha Road\, Haiku\, HI\, 96708\, United States
CATEGORIES:Techniques
ATTACH;FMTTYPE=image/jpeg:https://createwithcheryl.me/wp-content/uploads/2025/12/IMG_5336.jpeg
ORGANIZER;CN="Cheryl Hamilton":MAILTO:chamilton.maui@gmail.com
END:VEVENT
BEGIN:VEVENT
DTSTART;TZID=Pacific/Honolulu:20260223T130000
DTEND;TZID=Pacific/Honolulu:20260223T150000
DTSTAMP:20260423T131630
CREATED:20251215T042531Z
LAST-MODIFIED:20251215T042531Z
UID:90085-1771851600-1771858800@createwithcheryl.me
SUMMARY:Technique Class - 4 in 1 Stamping Technique
DESCRIPTION:Discover how one sheet of paper can turn into four cards with four completely different looks! In this fun\, technique-focused class\, you’ll learn the 4-in-1 Stamping Technique\, a clever and creative way to stretch your supplies while making beautiful handmade cards.\nDuring the class\, you’ll create three gorgeous finished cards\, plus an extra card designed especially for your Technique Binder. You’ll also receive clear\, step-by-step instructions\, so you can confidently master this technique and revisit it anytime you’d like.\nPerfect for stampers who love learning new ideas\, getting more from their supplies\, and adding a go-to technique to their creative toolbox! 🌺\nClass Fee:\n\n\n$20\n\n\nOR FREE with a $40 Stampin’ Up! order placed during the class.\n\n\nLet’s have some creative fun! I can’t wait to see you there!
URL:https://createwithcheryl.me/event/technique-class-4-in-1-stamping-technique-2/
LOCATION:1194 W. Kuiaha Road\, Haiku\, HI  96708\, 1194 W. Kuiaha Road\, Haiku\, HI\, 96708\, United States
CATEGORIES:Techniques
ATTACH;FMTTYPE=image/jpeg:https://createwithcheryl.me/wp-content/uploads/2025/12/IMG_5336.jpeg
END:VEVENT
END:VCALENDAR