BEGIN:VCALENDAR
VERSION:2.0
PRODID:-//Create With Cheryl - Cheryl Hamilton - ECPv6.15.17.1//NONSGML v1.0//EN
CALSCALE:GREGORIAN
METHOD:PUBLISH
X-ORIGINAL-URL:https://createwithcheryl.me
X-WR-CALDESC:Events for Create With Cheryl - Cheryl Hamilton
REFRESH-INTERVAL;VALUE=DURATION:PT1H
X-Robots-Tag:noindex
X-PUBLISHED-TTL:PT1H
BEGIN:VTIMEZONE
TZID:Pacific/Honolulu
BEGIN:STANDARD
TZOFFSETFROM:-1000
TZOFFSETTO:-1000
TZNAME:HST
DTSTART:20200101T000000
END:STANDARD
END:VTIMEZONE
BEGIN:VEVENT
DTSTART;TZID=Pacific/Honolulu:20211212T090000
DTEND;TZID=Pacific/Honolulu:20211212T160000
DTSTAMP:20260421T032805
CREATED:20211031T051130Z
LAST-MODIFIED:20211031T051130Z
UID:82197-1639299600-1639324800@createwithcheryl.me
SUMMARY:Desktop Calendar Class
DESCRIPTION:Desktop Calendar\nI’m excited to offer this popular class once again- Desktop Calendar Class! \nThere will be 12 stations for 12 months\, so this will take some time (probably 3-4 hours).  I’m offering 2 classes:  Sunday\, Dec. 12 or Monday\, Dec. 13.  Time will be 9am – 5 pm.  Drop in anytime. Open House style. Please bring your own glue and you may want to bring your own Wink of Stella if you’re one of my “sparkly” customers!  Please bring a sack lunch or some food to share! \nCost is $25 for the first calendar and $10 each for any extras you make as gifts.  Let me know how many you want before class so that I can prep.  RSVP soon before classes fill up! \nI’ll also have a station where you can make a Calendar Gift Box for $6 each\, if you wish. \n 
URL:https://createwithcheryl.me/event/desktop-calendar-class-3/
LOCATION:1194 W. Kuiaha Road\, Haiku\, HI  96708\, 1194 W. Kuiaha Road\, Haiku\, HI\, 96708\, United States
CATEGORIES:Home Decor
ATTACH;FMTTYPE=image/jpeg:https://createwithcheryl.me/wp-content/uploads/2021/10/fullsizeoutput_2649.jpeg
ORGANIZER;CN="Cheryl Hamilton":MAILTO:chamilton.maui@gmail.com
END:VEVENT
END:VCALENDAR