BEGIN:VCALENDAR
VERSION:2.0
PRODID:-//Create With Cheryl - Cheryl Hamilton - ECPv6.15.17.1//NONSGML v1.0//EN
CALSCALE:GREGORIAN
METHOD:PUBLISH
X-WR-CALNAME:Create With Cheryl - Cheryl Hamilton
X-ORIGINAL-URL:https://createwithcheryl.me
X-WR-CALDESC:Events for Create With Cheryl - Cheryl Hamilton
REFRESH-INTERVAL;VALUE=DURATION:PT1H
X-Robots-Tag:noindex
X-PUBLISHED-TTL:PT1H
BEGIN:VTIMEZONE
TZID:Pacific/Honolulu
BEGIN:STANDARD
TZOFFSETFROM:-1000
TZOFFSETTO:-1000
TZNAME:HST
DTSTART:20190101T000000
END:STANDARD
END:VTIMEZONE
BEGIN:VEVENT
DTSTART;TZID=Pacific/Honolulu:20200727T140000
DTEND;TZID=Pacific/Honolulu:20200727T160000
DTSTAMP:20260422T135146
CREATED:20200715T185548Z
LAST-MODIFIED:20200722T175622Z
UID:79677-1595858400-1595865600@createwithcheryl.me
SUMMARY:Christmas in July
DESCRIPTION:  \n \nLet’s get a jump start on Christmas this year!!  Monthly Jingle Belles Classes starting in July and running for 5 months. \nYou have the option of: \n\nAttending class for $15 or free with a $30 order or\nJoin CLUB.  Place a minimum $25 order a month with the Host Code and you get to be host one month (which means FREE PRODUCTS!). 5 month commitment.\n\nWe’ll make 3 projects… 2 Christmas Cards and 1 3D item. \nOUR HOST THIS MONTH IS MAREN!  PLEASE USE THIS HOST CODE IF ORDERING ONLINE: YGWTNGV6
URL:https://createwithcheryl.me/event/jingle-belles-class-2/
LOCATION:1194 W. Kuiaha Road\, Haiku\, HI  96708\, 1194 W. Kuiaha Road\, Haiku\, HI\, 96708\, United States
CATEGORIES:Christmas
ATTACH;FMTTYPE=image/jpeg:https://createwithcheryl.me/wp-content/uploads/2020/07/Christmas-Gnome-cherylhamilton-createwithcheryl-stampinup-makeacardsendacard-maui-papercrafting-handmadecards-simplestamping-handmadechristmascards-gnomes.jpg
ORGANIZER;CN="Cheryl Hamilton":MAILTO:chamilton.maui@gmail.com
END:VEVENT
END:VCALENDAR