BEGIN:VCALENDAR
VERSION:2.0
PRODID:-//Create With Cheryl - Cheryl Hamilton - ECPv6.15.17.1//NONSGML v1.0//EN
CALSCALE:GREGORIAN
METHOD:PUBLISH
X-ORIGINAL-URL:https://createwithcheryl.me
X-WR-CALDESC:Events for Create With Cheryl - Cheryl Hamilton
REFRESH-INTERVAL;VALUE=DURATION:PT1H
X-Robots-Tag:noindex
X-PUBLISHED-TTL:PT1H
BEGIN:VTIMEZONE
TZID:Pacific/Honolulu
BEGIN:STANDARD
TZOFFSETFROM:-1000
TZOFFSETTO:-1000
TZNAME:HST
DTSTART:20190101T000000
END:STANDARD
END:VTIMEZONE
BEGIN:VEVENT
DTSTART;TZID=Pacific/Honolulu:20200104T100000
DTEND;TZID=Pacific/Honolulu:20200104T120000
DTSTAMP:20260424T013044
CREATED:20191227T021951Z
LAST-MODIFIED:20191227T021951Z
UID:78572-1578132000-1578139200@createwithcheryl.me
SUMMARY:Card Layouts
DESCRIPTION:Do you have trouble coming up with your own card ideas?  Not sure what adhesives to use or what sizes to cut your paper?  Want to learn new card-making tips? This class series is perfect for YOU!  \nEach class will start with a Card Layout that we’ll use to make 3 totally different cards.  You’ll be given the layout with specific measurements to assist you when you want to create your own card at home. \n \n  \nPinterest Board\nYou’re welcome to participate in my Pinterest Board... just message me to be added\, and then feel free to add your own creations to the board!  It’s fun to see each other’s ideas & comments!
URL:https://createwithcheryl.me/event/card-layouts-20/
LOCATION:Tasty Crust Restaurant\, 1770 Mill St\, Wailuku\,\, Wailuku\, HI\, 96793\, United States
CATEGORIES:Card Layouts
ATTACH;FMTTYPE=image/jpeg:https://createwithcheryl.me/wp-content/uploads/2019/12/Lily-Pad-createwithcheryl-Saleabra-2.jpg
ORGANIZER;CN="Cheryl Hamilton":MAILTO:chamilton.maui@gmail.com
END:VEVENT
END:VCALENDAR