BEGIN:VCALENDAR
VERSION:2.0
PRODID:-//Create With Cheryl - Cheryl Hamilton - ECPv6.15.17.1//NONSGML v1.0//EN
CALSCALE:GREGORIAN
METHOD:PUBLISH
X-ORIGINAL-URL:https://createwithcheryl.me
X-WR-CALDESC:Events for Create With Cheryl - Cheryl Hamilton
REFRESH-INTERVAL;VALUE=DURATION:PT1H
X-Robots-Tag:noindex
X-PUBLISHED-TTL:PT1H
BEGIN:VTIMEZONE
TZID:Pacific/Honolulu
BEGIN:STANDARD
TZOFFSETFROM:-1000
TZOFFSETTO:-1000
TZNAME:HST
DTSTART:20200101T000000
END:STANDARD
END:VTIMEZONE
BEGIN:VEVENT
DTSTART;TZID=Pacific/Honolulu:20210215T140000
DTEND;TZID=Pacific/Honolulu:20210215T170000
DTSTAMP:20260422T231308
CREATED:20210208T021015Z
LAST-MODIFIED:20210208T021015Z
UID:80787-1613397600-1613408400@createwithcheryl.me
SUMMARY:Mini Album with Accordion Fold Pull-Out
DESCRIPTION:Join us in this fun class where we’ll make this beautiful MINI ALBUM to hold photos and mementos. \n \nDetailed instructions included with the class fee so that you can recreate this at home. \nClass fee is $20 or FREE with your $40 order.  Plan on a 3-hour class.  Please bring your own adhesives.
URL:https://createwithcheryl.me/event/mini-album-with-accordion-fold-pull-out-2/
LOCATION:1194 W. Kuiaha Road\, Haiku\, HI  96708\, 1194 W. Kuiaha Road\, Haiku\, HI\, 96708\, United States
CATEGORIES:Creative Folds!,Home Decor
ATTACH;FMTTYPE=image/jpeg:https://createwithcheryl.me/wp-content/uploads/2021/01/P0jgCoKlRsywNafNDxpZFA_thumb_370a.jpg
ORGANIZER;CN="Cheryl Hamilton":MAILTO:chamilton.maui@gmail.com
END:VEVENT
END:VCALENDAR